BEGIN:VCALENDAR
VERSION:2.0
PRODID:-//Oceanside Realty/EPL//NONSGML v1.0//EN
METHOD:PUBLISH
BEGIN:VEVENT
DTSTART:20210228T150000
DTEND:20210228T153000
LOCATION:21 Periwinkle Road Mullaloo, WA 6027
URL:https://oceansiderealty.com.au/property/21-periwinkle-road-mullaloo-wa-6027/
TRANSP:OPAQUE
SEQUENCE:0
UID:54551614353790
DTSTAMP:20210226T073630Z
SUMMARY:Home Open - UNDER OFFER Home Open Cancelled.
DESCRIPTION:This substantial 4 bedroom 2 bathroom family entertainer with multiple living zones\, boasting an abundance of features is well suited to a growing family. The home is extremely livable in its current condition but provides the added bonus for a new owner to further enhance the property by adding their own style and updates. \nVery well positioned and close to an array of community amenities\, local parklands\, reputable schools and adjacent to the Perwinkle Bush Park and Nature Reserve the property provides you with a true feeling of peace and tranquility right in the heart of suburbia.\n\nINTERNAL FEATURES\nLarge main bedroom includes generous walk in robe\, refurbished en-suite with shower\, toilet and vanity\, ceiling fan\, split system with swimming pool outlook and sliding door access to all weather patio\nOversized parent retreat/theatre room or additional living space with double French doors\, split system and sliding door access to all weather patio\nSunken lounge area with split system and ceiling fan\nSeparate meals or study area\nOpen plan kitchen\, meals and family area with sliding door access to all weather patio\nRefurbished kitchen includes a double fridge recess\, stainless steel appliances dishwasher\, under mounted oven\, gas hob\, range hood and microwave recess\nQueen size minor bedroom with double glass built in robe\, ceiling fan\, and direct access to main bathroom\nTwo good size minor bedrooms\, one with built in robe and both with ceiling fans\nRefurbished laundry with separate water closet\n\nADDITONAL FEATURES\nHard wood parquetry flooring \nDucted Evaporative air conditioning \nSolahart Hot Water System\nTandem enclosed carport\nLarge workshop and storage area\nAbundance of power points throughout \nReticulated Gardens\nGrassed area and all weather raised gazebo \nFully fenced below ground swimming pool\nExtensive all weather paved patio with ceiling fan\n\nBuilt in 1985\n740m2 Block\n\nClose to major infrastructure\, local beach\, schools and parks. Properties in this desirable beachside suburb in this location seldom come to market. To avoid disappointment call us now to arrange a viewing
PRIORITY:1
CLASS:PUBLIC
BEGIN:VALARM
TRIGGER:-PT10080M
ACTION:DISPLAY
DESCRIPTION:Reminder
END:VALARM
END:VEVENT
END:VCALENDAR
