BEGIN:VCALENDAR
VERSION:2.0
PRODID:-//Oceanside Realty/EPL//NONSGML v1.0//EN
METHOD:PUBLISH
BEGIN:VEVENT
DTSTART:20210228T120000
DTEND:20210228T123000
LOCATION:96 Quarkum Street Wanneroo, WA 6065
URL:https://oceansiderealty.com.au/property/96-quarkum-street-wanneroo-wa-6065/
TRANSP:OPAQUE
SEQUENCE:0
UID:54931614353569
DTSTAMP:20210226T073249Z
SUMMARY:Home Open - HOT PROPERTY!
DESCRIPTION:******Home Open This SUNDAY 12:00-12:30pm*****\n\nBoasting a light filled interior and a neutral colour palette throughout\, this semi renovated and well maintained five bedroom\, two bathroom home is one to really get excited about. With two different indoor living zones\, the highly functional floorplan offers space and versatility. Outdoors\, the flow of space continues with a paved patio and entertaining area\, complete with a generous backyard and lawn area for the kids and pets to play!\n\nTHE OPPORTUNITY\n751sqm block Zoned R20/R40 - this is a triplex site.  Alternatively\, there is potential to retain this family home and subdivide by removing the carport to create a single rear block.\n\nTHE LIFESTYLE\nWalking distance to everything!  Just moments away from the vibrancy of the Wanneroo Central Shopping precinct with local eateries\, cafes\, shopping\, Limelight Theatre and Aqua Motion.  A leisurely stroll to East Wanneroo Primary and Wanneroo Secondary Schools.  \n\nTHE FEATURES\n5 Bedrooms\nKing sized Master Bedroom with ceiling fan\, built-in robes and fully renovated ensuite\nA further 4 Bedrooms - all with built-in robes\nFully renovated family bathroom with glass shower screen\, bath tub and vanity\nWell-appointed Kitchen with \n-	Brand new Westinghouse gas cooktop and electric oven\n-	Range hood\n-	Dishwasher \n-	Ample cupboard and bench space\nLiving Room\nDining Room\nFamily Room\nBrand new Mitsubishi split system air conditioner \nAlarm\n\nOutdoors:\nDrive-through carport with roller door\nLarge backyard with paved patio area\n2 Garden sheds\nReticulation \nSolar hot water system\nLiving Space:  180sqms (approx.)\nBlock Size:  751sqms \nZoning:  R20/R40
PRIORITY:1
CLASS:PUBLIC
BEGIN:VALARM
TRIGGER:-PT10080M
ACTION:DISPLAY
DESCRIPTION:Reminder
END:VALARM
END:VEVENT
END:VCALENDAR
