BEGIN:VCALENDAR
VERSION:2.0
PRODID:-//Oceanside Realty/EPL//NONSGML v1.0//EN
METHOD:PUBLISH
BEGIN:VEVENT
DTSTART:20210224T173000
DTEND:20210224T180000
LOCATION:1 Whitechapel Lane KINGSLEY, WA 6026
URL:https://oceansiderealty.com.au/property/1-whitechapel-lane-kingsley-wa-6026/
TRANSP:OPAQUE
SEQUENCE:0
UID:54331614353874
DTSTAMP:20210226T073754Z
SUMMARY:Home Open - THE PERFECT ALL ROUNDER
DESCRIPTION:This well-equipped 4 bedroom 2 bathroom home is the perfect all-rounder for a multitude of buyers. Located approx. 3 minutes' drive from the Whitford Train Station and Freeway access\, the local Shopping Centre and School are conveniently located around the corner making this excellent property an absolute must see for buyers seeking location\, convenience and lifestyle.\nA free flowing floor plan and versatile living both indoors and out\, are ideal for a family or those who like to entertain. There is loads of extras including an abundance of parking making it a suitable property for buyers requiring additional parking to accommodate extra vehicles\, caravan\, boat or work vehicles. Low maintenance attributes all round make this easy care property also suitable for those who wish to lock and leave.\n\nInternal Features:\n\nGenerous lounge and meals area with sliding door access to alfresco and pool area\nOpen plan family area with raised ceiling and pot belly stove\, modern kitchen with island bench  3 stool breakfast bar\, ample cupboard storage\,  stone bench tops\, stainless appliances including wall oven\, 5 burner gas hob\, dishwasher and range hood.\nGood size master bedroom with overhead storage\, ceiling fan and fully renovated en-suite including floor to ceiling tiles\, shower\, vanity and toilet\n3 minor bedrooms\, 2 with robe recess and 1 with ceiling fan\nFully renovated family bathroom in neutral floor to ceiling tiles\, new vanity\, bath and shower\nHallway linen storage cupboards\nWood grained internal doors\nDucted Air conditioning\n\nExternal Features:\n\nLarge cedar lined\, decked patio with ceiling fan and pool outlook\nFully glass fenced below ground swimming pool\nLiquid limestone paving\nSingle garage\nLow maintenance fake lawn\n\n\n\nAdditional Features\n2 Kw solar electricity panels\nNear new solar hot water system\nElectric roller shutters\nPartial double glazing to some windows and doors\nExtra Street parking for 4 additional vehicles\nLow maintenance\, private and secure limestone block boundary and gated front yard with poured limestone and garden beds\nSide lawn area for children's play equipment or family pets\nOne Large and one small garden shed\nArray of fruit trees\n683 sqm block\n\nSituated in a quiet yet well connected location falling into the Woodvale High School catchment area and a pleasant drive to the Northern coastal beaches of Sorrento\, Hillarys and Mullaloo. This perfect all-rounder property packed with loads of extras is sure to attract plenty of attention.\nPlease note: the photographs used are not an exact representation of how the property presents
PRIORITY:1
CLASS:PUBLIC
BEGIN:VALARM
TRIGGER:-PT10080M
ACTION:DISPLAY
DESCRIPTION:Reminder
END:VALARM
END:VEVENT
END:VCALENDAR
